BEGIN:VCALENDAR
VERSION:2.0
PRODID:icalendar-ruby
CALSCALE:GREGORIAN
BEGIN:VEVENT
DTSTAMP:20260412T193249Z
UID:event-occurrence-6c3cebe0-03e3-4f06-b75e-3c264e1f98a4-event-e60434f1-94
 25-42c3-9845-22411e958be5@termine-e
DTSTART:20260607T103000
DTEND:20260607T000000
CLASS:PUBLIC
DESCRIPTION:Pn. WeidnerMusik: Brödling
LOCATION:St. Petri-Kirche\, Lortzingstraße 19\, 31812\, Bad Pyrmont
SUMMARY:Gottesdienst
END:VEVENT
END:VCALENDAR
