BEGIN:VCALENDAR
VERSION:2.0
PRODID:icalendar-ruby
CALSCALE:GREGORIAN
BEGIN:VEVENT
DTSTAMP:20260417T063606Z
UID:event-occurrence-38c5a78f-1913-46b1-8eaa-9220407d9522-event-e541800e-0f
 6c-40a1-8517-02c5ec9151f0@termine-e
DTSTART:20260425T100000
DTEND:20260425T000000
CLASS:PUBLIC
DESCRIPTION:Alles ist im Werden und gemeinsam sind wir wieder unterwegs in 
 - Alt Garge. Unsere Tour geht zum ELBFENSTER auf der Viehler Höhe und wei
 ter zum Hafen\, rund ums Alte Dorf zur Elbe und durch den Wald zum Ausgang
 spunkt zurück. Auf dem Weg zu sein. Zum Pilgern in der Gruppe erwarten Si
 e geistliche Impulse\, Zeit zum Schweigen und zum achtsamen Gehen. Aber au
 ch dazu gehören Pausen zur Stärkung\, Singen bekannter Lieder und Gespr
 äche mit anderen Teilnehmenden.Bitte denken Sie an Verpflegung/ Trinken\,
 ...
LOCATION:Erlöserkirche Alt Garge\, Kirchweg\, 21354\, Bleckede-Alt Garge
SUMMARY:Samstagspilgern
END:VEVENT
END:VCALENDAR
