BEGIN:VCALENDAR
VERSION:2.0
PRODID:icalendar-ruby
CALSCALE:GREGORIAN
BEGIN:VEVENT
DTSTAMP:20260421T141029Z
UID:event-occurrence-7999e821-9baf-4638-b92c-bec40b4a6751-event-e4dbf3ac-aa
 66-40fd-9980-2f8daeab4671@termine-e
DTSTART:20260705T100000
DTEND:20260705T000000
CLASS:PUBLIC
DESCRIPTION:5. Sonntag nach Trinitatis"Sommerkirche 2026 I": Was passiert\,
  wenn wir eine rosarote Brille aufsetzen?
LOCATION:Kirche Ardorf\, Hohebarger Str.\, 26409\, Wittmund
SUMMARY:"Rosarote Brille"
END:VEVENT
END:VCALENDAR
