BEGIN:VCALENDAR
VERSION:2.0
PRODID:icalendar-ruby
CALSCALE:GREGORIAN
BEGIN:VEVENT
DTSTAMP:20260328T120607Z
UID:event-occurrence-b9823807-3887-4e9b-bc6d-f17ceffc6a21-event-e3d92d10-31
 97-4f36-8245-71ce4566d67b@termine-e
DTSTART:20260618T090000
DTEND:20260618T103000
CLASS:PUBLIC
DESCRIPTION:Ob Jung oder Alt: Du bist herzlich zu einem gemütlichen Frühs
 tück in der Nachbarschaft eingeladen. Du hast vormittags Zeit? Dann melde
  Dich an!Mitbringen: Lieblingsbrotaufstrich! Brötchen und Kaffee/ Tee sin
 d vorhanden.
LOCATION:Miriam Schäfer\, Im Sandbrook 22\, 21698\, Harsefeld
SUMMARY:Frühstückstreffen
END:VEVENT
END:VCALENDAR
