BEGIN:VCALENDAR
VERSION:2.0
PRODID:icalendar-ruby
CALSCALE:GREGORIAN
BEGIN:VEVENT
DTSTAMP:20260329T132428Z
UID:event-occurrence-0524b9a7-dc4b-4572-a8e9-00db9d747de6-event-e2ea9a49-d7
 3b-4ee4-b9bb-f929775e23ba@termine-e
DTSTART:20260517T103000
DTEND:20260517T000000
CLASS:PUBLIC
DESCRIPTION:mit Pastor Andreas Ströble
LOCATION:Michaeliskirche Ronnenberg\, Am Kirchhofe\, 30952\, Ronnenberg
SUMMARY:Gottesdienst in Ronnenberg
END:VEVENT
END:VCALENDAR
