BEGIN:VCALENDAR
VERSION:2.0
PRODID:icalendar-ruby
CALSCALE:GREGORIAN
BEGIN:VEVENT
DTSTAMP:20260417T081004Z
UID:event-occurrence-de3e4324-86cb-4dda-aa7e-6e5b90ffe063-event-e21620c7-52
 5a-4517-bf78-3d01d5568ff2@termine-e
DTSTART:20260607T100000
DTEND:20260607T110000
CLASS:PUBLIC
DESCRIPTION:Konfirmationsjahrgang 1976Ablauf:- 09:45 Uhr Treffen im Foyer d
 es Gemeindehauses- 10:00 Uhr Gottesdienst mit Abendmahl\, anschließend Gr
 uppenfoto (10\,00 €/Bild)\, Kirchenkaffee im Foyer- 12:30 Uhr gemeinsame
 s Essen im Landgasthaus Gieseke-Asshorn\, selbstverständlich sind auch ih
 re Angehörigen eingeladen\, wir bitten lediglich um Anmeldung\, damit gen
 ügend Plätze im Gasthaus vorbereitet sindPersönliche Einladungen per Br
 ief sind aufgrund der Datenschutzrichtlinien nicht mehr möglich.Wir brauc
 hen I...
LOCATION:St. Thomas\, Bremer Str. 70\, 49163\, Bohmte
SUMMARY:Goldene Konfirmation
END:VEVENT
END:VCALENDAR
