BEGIN:VCALENDAR
VERSION:2.0
PRODID:icalendar-ruby
CALSCALE:GREGORIAN
BEGIN:VEVENT
DTSTAMP:20260327T081728Z
UID:event-occurrence-c1b6290a-7fd4-47e4-9628-43c19fd64bb6-event-e1dbee63-b2
 9d-4cf1-8cd9-a5ee8430ff05@termine-e
DTSTART:20260528T190000
DTEND:20260528T000000
CLASS:PUBLIC
DESCRIPTION:Wir laden wieder ein zum Gespräch und zur Reise zum "Kern der 
 Worte". Im Mittelpunkt steht die Lust am Hin- und Herwenden unserer Gedank
 en. Jede/r ist willkommen. Philosophisches Wissen ist nicht erforderlich. 
 Reden Sie mit!Moderation: Philipp Dieterich
LOCATION:Friedenskirche\, Schackstr. 2–4\, 30175\, Hannover
SUMMARY:Wir.Reden.Miteinander: Diskussionsabend
END:VEVENT
END:VCALENDAR
