BEGIN:VCALENDAR
VERSION:2.0
PRODID:icalendar-ruby
CALSCALE:GREGORIAN
BEGIN:VEVENT
DTSTAMP:20260329T133322Z
UID:event-occurrence-a7d9780a-551a-44bb-9ba1-fa84b6244270-event-e0553250-6e
 c0-4a4b-8e8e-4eeda167fe2c@termine-e
DTSTART:20260427T200000
DTEND:20260427T000000
CLASS:PUBLIC
DESCRIPTION:Gemeinsam diskutieren wir als Hauskreis über biblische Texte o
 der Themen mit religiösem Bezug\, spüren der Bedeutung altbekannter und 
 vielleicht allzu bekannter Formulierungen nach\, tauschen unsere Gedanken 
 zu „Gott und der Welt“ aus. Dazu gibt es Getränke und Snacks sowie da
 s ein oder andere gemeinsam gesungene Lied. Zu Gast sind wir jeden zweiten
  und vierten Montag im Monat um 20 Uhr bei Familie Tänzer. Alle Interessi
 erten sind herzlich eingeladen\, dazuzukommen und mitzumachen.Anmeldung be
 i ...
LOCATION:
SUMMARY:Hauskreis in Ronnenberg
END:VEVENT
END:VCALENDAR
