BEGIN:VCALENDAR
VERSION:2.0
PRODID:icalendar-ruby
CALSCALE:GREGORIAN
BEGIN:VEVENT
DTSTAMP:20260323T145101Z
UID:event-occurrence-679087bd-2120-4e7c-ae66-af8decdd510c-event-e037c609-f0
 ff-4ef3-aa6b-06b8756a6174@termine-e
DTSTART:20260628T180000
DTEND:20260628T000000
CLASS:PUBLIC
LOCATION:St. Georg Wanna\, Mittelstraße 14\, 21776\, Wanna
SUMMARY:Konzert mit Eddi Hüneke in Wanna
END:VEVENT
END:VCALENDAR
