BEGIN:VCALENDAR
VERSION:2.0
PRODID:icalendar-ruby
CALSCALE:GREGORIAN
BEGIN:VEVENT
DTSTAMP:20260303T102949Z
UID:event-occurrence-237ee415-58fd-426d-9d24-09a877433efa-event-fd8fc272-01
 7d-4ed1-9771-0ae0a918a14b@termine-e
DTSTART:20260607T100000
DTEND:20260607T000000
CLASS:PUBLIC
LOCATION:Gemeindehaus\, Bonifatiusstraße 13\, 29223\, Celle
SUMMARY:KinderKirche
END:VEVENT
END:VCALENDAR
