BEGIN:VCALENDAR
VERSION:2.0
PRODID:icalendar-ruby
CALSCALE:GREGORIAN
BEGIN:VEVENT
DTSTAMP:20260205T143100Z
UID:event-occurrence-1e898c8c-47e3-4315-acb0-28a1788c495e-event-e526414c-33
 6b-4bcd-9ae1-b24aa981558b@termine-e
DTSTART:20260621T180000
DTEND:20260621T000000
CLASS:PUBLIC
DESCRIPTION:Ab März lädt der Kirchenkreis Hildesheimer Land-Alfeld zu ein
 er besonderen musikalisch-meditativen Gottesdienstreihe ein – berührend
 \, ruhig\, tiefgehend. Superintendentin Franziska Albrecht und Pop-Kantori
 n Hanna Jursch gestalten Abende\, die Raum schaffen zum Innehalten\, Höre
 n und Spüren. Eine bewusste Auszeit für Herz und Seele.Im Mittelpunkt st
 ehen die großen Emotionen des Lebens: Gefühle\, die uns tragen\, herausf
 ordern und verwandeln – Mut\, Angst\, Liebe\, Trauer und Hoffnung. Musik
 \, Stille un...
LOCATION:
SUMMARY:Gottesdienstreihe Herztöne in Föhrste
END:VEVENT
END:VCALENDAR
