BEGIN:VCALENDAR
VERSION:2.0
PRODID:icalendar-ruby
CALSCALE:GREGORIAN
BEGIN:VEVENT
DTSTAMP:20260225T094746Z
UID:event-occurrence-884c254d-69af-4829-8e9b-d335d655576a-event-ddda2c14-34
 5e-48e9-a7bc-7cffbfc64589@termine-e
DTSTART:20260423T190000
DTEND:20260423T000000
CLASS:PUBLIC
DESCRIPTION:Thema: Bedürfnisse von Säuglinge und Kleinkindern – das sag
 t die WissenschaftErziehung von Kindern hat sich im letzten Jahrzehnt star
 k verändert. Eltern stehen heute eine Menge an Informationen über Entwic
 klung von Kindern und Erziehungsmethoden zur Verfügung. Gleichzeitig steh
 en mindestens genauso viele Fragen im Raum. Was ist denn jetzt „die rich
 tige“ Methode und was „die falsche“? Was heißt denn bindungsorienti
 ere Erziehung für unseren Alltag? Bedeutet bedürfnisorientierte Erziehun
 g\, dass ...
LOCATION:PaNaMa Familienzentrum\, Neues Feld 60\, 27432\, Bremervörde
SUMMARY:Geborgen aufwachsen - Bedürfnisse von Säuglingen und Kleinkindern
  - das sagt die Wissenschaft
END:VEVENT
END:VCALENDAR
