BEGIN:VCALENDAR
VERSION:2.0
PRODID:icalendar-ruby
CALSCALE:GREGORIAN
BEGIN:VEVENT
DTSTAMP:20251022T132718Z
UID:event-occurrence-f3c83c79-77b0-45b1-b8b4-a5487fb90651-event-cfdc2d76-bb
 85-413d-9e59-1b19e0112ea2@termine-e
DTSTART:20261231T170000
DTEND:20261231T000000
CLASS:PUBLIC
DESCRIPTION:Feiert mit uns Gottesdienst! Mit der Jahreslosung 2025 blicken 
 wir zurück auf das\, was war: "Prüft alles und behaltet das Gute!".In Ge
 meinschaft feiern wir Abendmahl. Wir hören Gottes Wort und singen miteina
 nder.
LOCATION:Erlöserkirche (Gospelkirche) Hannover-Linden\, An der Erlöserkir
 che 2\, 30449\, Hannover
SUMMARY:Gospelgottesdienst zum Jahreswechsel
END:VEVENT
END:VCALENDAR
