BEGIN:VCALENDAR
VERSION:2.0
PRODID:icalendar-ruby
CALSCALE:GREGORIAN
BEGIN:VEVENT
DTSTAMP:20251010T141216Z
UID:event-occurrence-4331ab96-59ca-4ccc-8344-2c5677ea5bbd-event-ce5539e0-51
 fc-4e23-9111-430bd1099e33@termine-e
DTSTART:20260503T000000
DTEND:20260503T000000
CLASS:PUBLIC
DESCRIPTION:Wir feiern wegen des European Gospelfestivals unseren Gottesdie
 nst interaktiv am 10. Mai.
LOCATION:
SUMMARY:03. Mai KEIN Gottesdienst
END:VEVENT
END:VCALENDAR
