BEGIN:VCALENDAR
VERSION:2.0
PRODID:icalendar-ruby
CALSCALE:GREGORIAN
BEGIN:VEVENT
DTSTAMP:20260319T125847Z
UID:event-occurrence-32def71a-d193-4219-8e92-87c0967c9b29-event-bd487f69-c6
 ad-43a1-9515-ce758cc9f6a0@termine-e
DTSTART:20260426T150000
DTEND:20260426T190000
CLASS:PUBLIC
DESCRIPTION:Das Team der Kinderfreizeit trifft sich\, um die gemeinsame Zei
 t in Oese vorzubereiten ...
LOCATION:St.-Johannis-Kirche\, Bahnhofstraße 13\, 29614\, Soltau
SUMMARY:Vorbereitung Kinderfreizeit 2026 Oese
END:VEVENT
END:VCALENDAR
