BEGIN:VCALENDAR
VERSION:2.0
PRODID:icalendar-ruby
CALSCALE:GREGORIAN
BEGIN:VEVENT
DTSTAMP:20260213T134019Z
UID:event-occurrence-91d0d9eb-8ea2-4459-8842-88dc04e32531-event-ad0d7a27-49
 b4-4e2e-95b9-39120ca031c4@termine-e
DTSTART:20260425T100000
DTEND:20260425T000000
CLASS:PUBLIC
LOCATION:Müllingen
SUMMARY:Konfirmation (Müllingen)
END:VEVENT
END:VCALENDAR
