BEGIN:VCALENDAR
VERSION:2.0
PRODID:icalendar-ruby
CALSCALE:GREGORIAN
BEGIN:VEVENT
DTSTAMP:20260130T163614Z
UID:event-occurrence-54eacc9b-5d58-45ee-b3e2-ed5ffa110281-event-99c20f83-eb
 ce-4dc2-95bc-2150dfb004fb@termine-e
DTSTART:20260425T090000
DTEND:20260425T000000
CLASS:PUBLIC
LOCATION:Kirchengemeinde Etelsen\, Am Denkmal 6\, 27299\, Langwedel-Etelsen
SUMMARY:Gemeindefrühstück 55plus
END:VEVENT
END:VCALENDAR
