BEGIN:VCALENDAR
VERSION:2.0
PRODID:icalendar-ruby
CALSCALE:GREGORIAN
BEGIN:VEVENT
DTSTAMP:20260223T094149Z
UID:event-occurrence-1228ee03-5d57-4956-9ebe-cd50b1bb7390-event-8b5ae797-37
 f0-4c0b-bdf0-e78f1fe0d92b@termine-e
DTSTART:20260425T170000
DTEND:20260425T000000
CLASS:PUBLIC
DESCRIPTION:Gottesdienst mit Projektorchester Sinfonietta WeserberglandPast
 or Westerkamp
LOCATION:Martin-Luther-Kirche\, Schillerstr.19\, 31785\, Hameln
SUMMARY:Gottesdienst Kirche
END:VEVENT
END:VCALENDAR
