BEGIN:VCALENDAR
VERSION:2.0
PRODID:icalendar-ruby
CALSCALE:GREGORIAN
BEGIN:VEVENT
DTSTAMP:20251122T214402Z
UID:event-occurrence-0f8e206e-119c-4553-afbb-84b2afc74444-event-7cb6114d-e9
 a0-4b92-a8da-2d3857e00802@termine-e
DTSTART:20260510T170000
DTEND:20260510T000000
CLASS:PUBLIC
DESCRIPTION:Worum geht's da eigentlich? Zunächst einmal: um Live-Musik im 
 großartigen Rock- und Pop-Feeling.Und noch mehr: Ein unterhaltsamer Mix m
 it spannenden\, amüsanten Storys\, den Jahrhundert-Welt-Hits und Multimed
 ia! - Von und mit zwei bestens gelaunten Musikern und Insidern aus der Mus
 ikbranche - auf zig Instrumenten. Die schönsten Geschichten schreibt ja d
 er Rock'n'Roll: und JÜRGEN RAU kennt davon so einige. Schließlich war er
  einige Jahrzehnte in verantwortlichen Positionen bei großen Schallplatt.
 ..
LOCATION:Christuskirche Harpstedt\, Erste Kirchstraße\, 27243\, Harpstedt
SUMMARY:Rock Tales - Christuskirche Harpstedt
END:VEVENT
END:VCALENDAR
