BEGIN:VCALENDAR
VERSION:2.0
PRODID:icalendar-ruby
CALSCALE:GREGORIAN
BEGIN:VEVENT
DTSTAMP:20260227T112508Z
UID:event-occurrence-6992372a-3980-47b5-9b9b-c8be4b8bcbc5-event-78ee1a55-7c
 49-4e87-8659-24e2dd24ea26@termine-e
DTSTART:20260304T163000
DTEND:20260304T220000
CLASS:PUBLIC
DESCRIPTION:Spaß für groß und klein\, jung und junggeblieben!Bringe ein 
 Lieblingsspiel mit oder suche dir etwas aus unserem Fundus aus.Getränke u
 nd Knabbereien sind dabei!
LOCATION:Gemeindesaal Hohenbostel\, An der Kirche 1\, 30890\, Barsinghausen
SUMMARY:Spieletreff
END:VEVENT
BEGIN:VEVENT
DTSTAMP:20260227T112508Z
UID:event-occurrence-80eb82a5-2949-47b0-823b-fd319c7ff999-event-78ee1a55-7c
 49-4e87-8659-24e2dd24ea26@termine-e
DTSTART:20260401T163000
DTEND:20260401T220000
CLASS:PUBLIC
DESCRIPTION:Spaß für groß und klein\, jung und junggeblieben!Bringe ein 
 Lieblingsspiel mit oder suche dir etwas aus unserem Fundus aus.Getränke u
 nd Knabbereien sind dabei!
LOCATION:Gemeindesaal Hohenbostel\, An der Kirche 1\, 30890\, Barsinghausen
SUMMARY:Spieletreff
END:VEVENT
BEGIN:VEVENT
DTSTAMP:20260227T112508Z
UID:event-occurrence-743cb906-6179-49a4-8ee2-a7ca7abed6eb-event-78ee1a55-7c
 49-4e87-8659-24e2dd24ea26@termine-e
DTSTART:20260506T163000
DTEND:20260506T220000
CLASS:PUBLIC
DESCRIPTION:Spaß für groß und klein\, jung und junggeblieben!Bringe ein 
 Lieblingsspiel mit oder suche dir etwas aus unserem Fundus aus.Getränke u
 nd Knabbereien sind dabei!
LOCATION:Gemeindesaal Hohenbostel\, An der Kirche 1\, 30890\, Barsinghausen
SUMMARY:Spieletreff
END:VEVENT
BEGIN:VEVENT
DTSTAMP:20260227T112508Z
UID:event-occurrence-c42e519a-a3de-4703-9267-d73c33ba87c7-event-78ee1a55-7c
 49-4e87-8659-24e2dd24ea26@termine-e
DTSTART:20260603T163000
DTEND:20260603T220000
CLASS:PUBLIC
DESCRIPTION:Spaß für groß und klein\, jung und junggeblieben!Bringe ein 
 Lieblingsspiel mit oder suche dir etwas aus unserem Fundus aus.Getränke u
 nd Knabbereien sind dabei!
LOCATION:Gemeindesaal Hohenbostel\, An der Kirche 1\, 30890\, Barsinghausen
SUMMARY:Spieletreff
END:VEVENT
BEGIN:VEVENT
DTSTAMP:20260227T112508Z
UID:event-occurrence-1658010a-3757-475a-aad7-ededba415953-event-78ee1a55-7c
 49-4e87-8659-24e2dd24ea26@termine-e
DTSTART:20260701T163000
DTEND:20260701T220000
CLASS:PUBLIC
DESCRIPTION:Spaß für groß und klein\, jung und junggeblieben!Bringe ein 
 Lieblingsspiel mit oder suche dir etwas aus unserem Fundus aus.Getränke u
 nd Knabbereien sind dabei!
LOCATION:Gemeindesaal Hohenbostel\, An der Kirche 1\, 30890\, Barsinghausen
SUMMARY:Spieletreff
END:VEVENT
BEGIN:VEVENT
DTSTAMP:20260227T112508Z
UID:event-occurrence-e5cec883-a0a1-41a6-96ce-9632e593b8a7-event-78ee1a55-7c
 49-4e87-8659-24e2dd24ea26@termine-e
DTSTART:20260805T163000
DTEND:20260805T220000
CLASS:PUBLIC
DESCRIPTION:Spaß für groß und klein\, jung und junggeblieben!Bringe ein 
 Lieblingsspiel mit oder suche dir etwas aus unserem Fundus aus.Getränke u
 nd Knabbereien sind dabei!
LOCATION:Gemeindesaal Hohenbostel\, An der Kirche 1\, 30890\, Barsinghausen
SUMMARY:Spieletreff
END:VEVENT
BEGIN:VEVENT
DTSTAMP:20260227T112508Z
UID:event-occurrence-9946ce8b-921f-4479-9544-5345c8e67730-event-78ee1a55-7c
 49-4e87-8659-24e2dd24ea26@termine-e
DTSTART:20260902T163000
DTEND:20260902T220000
CLASS:PUBLIC
DESCRIPTION:Spaß für groß und klein\, jung und junggeblieben!Bringe ein 
 Lieblingsspiel mit oder suche dir etwas aus unserem Fundus aus.Getränke u
 nd Knabbereien sind dabei!
LOCATION:Gemeindesaal Hohenbostel\, An der Kirche 1\, 30890\, Barsinghausen
SUMMARY:Spieletreff
END:VEVENT
BEGIN:VEVENT
DTSTAMP:20260227T112508Z
UID:event-occurrence-9bd722d0-587c-4fe8-b4bf-899115872ef7-event-78ee1a55-7c
 49-4e87-8659-24e2dd24ea26@termine-e
DTSTART:20261007T163000
DTEND:20261007T220000
CLASS:PUBLIC
DESCRIPTION:Spaß für groß und klein\, jung und junggeblieben!Bringe ein 
 Lieblingsspiel mit oder suche dir etwas aus unserem Fundus aus.Getränke u
 nd Knabbereien sind dabei!
LOCATION:Gemeindesaal Hohenbostel\, An der Kirche 1\, 30890\, Barsinghausen
SUMMARY:Spieletreff
END:VEVENT
BEGIN:VEVENT
DTSTAMP:20260227T112508Z
UID:event-occurrence-b6636f01-4179-41fe-8cbb-300e22b47af6-event-78ee1a55-7c
 49-4e87-8659-24e2dd24ea26@termine-e
DTSTART:20261104T163000
DTEND:20261104T220000
CLASS:PUBLIC
DESCRIPTION:Spaß für groß und klein\, jung und junggeblieben!Bringe ein 
 Lieblingsspiel mit oder suche dir etwas aus unserem Fundus aus.Getränke u
 nd Knabbereien sind dabei!
LOCATION:Gemeindesaal Hohenbostel\, An der Kirche 1\, 30890\, Barsinghausen
SUMMARY:Spieletreff
END:VEVENT
END:VCALENDAR
