BEGIN:VCALENDAR
VERSION:2.0
PRODID:icalendar-ruby
CALSCALE:GREGORIAN
BEGIN:VEVENT
DTSTAMP:20260217T091554Z
UID:event-occurrence-42c146f0-927b-4db8-a84c-2356fa502561-event-76684344-d7
 6a-408e-b185-348d2821a0a9@termine-e
DTSTART:20260425T110000
DTEND:20260425T000000
CLASS:PUBLIC
DESCRIPTION:Herzliche Einladung zum Konfirmations-Gottesdienst mit Diakon P
 hilipp Lerke.
LOCATION:Christuskirche\, Nienstedter Str. 5a\, 30890\, Barsinghausen
SUMMARY:Gottesdienst in Egestorf
END:VEVENT
END:VCALENDAR
