BEGIN:VCALENDAR
VERSION:2.0
PRODID:icalendar-ruby
CALSCALE:GREGORIAN
BEGIN:VEVENT
DTSTAMP:20260303T094850Z
UID:event-occurrence-5f92b60c-5e7a-436c-a2d0-a36c510e1dfe-event-74c914be-af
 70-40b3-805c-74e5ebc6fdde@termine-e
DTSTART:20260314T180000
DTEND:20260314T000000
CLASS:PUBLIC
DESCRIPTION:Unter dem Titel „Himmlische Muse – Maria in Musik und Kunst
 “ findet am 14. März 2026\,18:00 Uhr in der Thomaskirche Hohenbostel ei
 n besonderes geistliches Konzert statt. Es eröffnet die neue Reihe „Ars
  et Spiritus“.Erstmals musizieren der Frauenchor „Euterpe“ aus Hanno
 ver und der Kirchenchor der Kirchengemeinde Bördedörfer gemeinsam. Zur A
 ufführung kommt das neu komponierte Ave Maria für Orgel\, Frauenchor und
  Violine von Kristina Gaar (2025). An der Violine: Sophie-Christine Richte
 r. Der Gesan...
LOCATION:Thomaskirche\, An der Kirche 3\, 30890\, Barsinghausen (OT Hohenbo
 stel)
SUMMARY:Himmlische Muse Maria in Musik und Kunst - Konzert in Hohenbostel
END:VEVENT
END:VCALENDAR
