BEGIN:VCALENDAR
VERSION:2.0
PRODID:icalendar-ruby
CALSCALE:GREGORIAN
BEGIN:VEVENT
DTSTAMP:20260323T092300Z
UID:event-occurrence-59a7e00d-2c92-43f4-8623-e0e53c085afc-event-74781b3b-a6
 6a-4b42-9dfd-7d73b3ee4552@termine-e
DTSTART:20260426T100000
DTEND:20260426T000000
CLASS:PUBLIC
DESCRIPTION:Gottesdienst
LOCATION:St. Martin Kirche Bramsche\, Kirchhofstraße 1\, 49567\, Bramsche
SUMMARY:Jubilate
END:VEVENT
END:VCALENDAR
