BEGIN:VCALENDAR
VERSION:2.0
PRODID:icalendar-ruby
CALSCALE:GREGORIAN
BEGIN:VEVENT
DTSTAMP:20260225T112038Z
UID:event-occurrence-2f22b497-09b4-4552-994c-1a67040159d9-event-6c6b867f-b3
 b3-4f52-8a2d-a30c7b74689c@termine-e
DTSTART:20260426T100000
DTEND:20260426T000000
CLASS:PUBLIC
DESCRIPTION:mit Pastor F. Keller
LOCATION:St. Michaelis\, Kirchstr. 7\, 49090\, Osnabrück
SUMMARY:Gottesdienst mit Abendmahl
END:VEVENT
END:VCALENDAR
