BEGIN:VCALENDAR
VERSION:2.0
PRODID:icalendar-ruby
CALSCALE:GREGORIAN
BEGIN:VEVENT
DTSTAMP:20260224T095815Z
UID:event-occurrence-42e607f4-5ecd-434f-bdcb-89c1c6139c6e-event-6664928c-21
 e9-48a9-abd1-7310e9a1e846@termine-e
DTSTART:20260417T190000
DTEND:20260417T000000
CLASS:PUBLIC
DESCRIPTION:Pastor Kottmeier
LOCATION:Kirche Baden\, Am Friedhof 8\, 28832\, Achim
SUMMARY:Abendmahlsgottesdienst vor der Konfirmation
END:VEVENT
END:VCALENDAR
