BEGIN:VCALENDAR
VERSION:2.0
PRODID:icalendar-ruby
CALSCALE:GREGORIAN
BEGIN:VEVENT
DTSTAMP:20260322T074809Z
UID:event-occurrence-5b33acbf-cac7-4ba4-b280-52fe6dfd8be4-event-64efa985-ca
 f2-47f5-bbde-83dbd57e4b59@termine-e
DTSTART:20260426T100000
DTEND:20260426T000000
CLASS:PUBLIC
LOCATION:Kirchengemeinde Etelsen\, Am Denkmal 6\, 27299\, Langwedel-Etelsen
SUMMARY:Gottesdienst in Etelsen
END:VEVENT
END:VCALENDAR
