BEGIN:VCALENDAR
VERSION:2.0
PRODID:icalendar-ruby
CALSCALE:GREGORIAN
BEGIN:VEVENT
DTSTAMP:20260211T131253Z
UID:event-occurrence-d3c2db09-074a-4b1c-810e-2a68abf12976-event-5ea96f75-b4
 20-4287-b832-9b5dbe1a9c29@termine-e
DTSTART:20260425T180000
DTEND:20260425T000000
CLASS:PUBLIC
DESCRIPTION:Gottesdienst mit Abendmahl und gemeinsamer Beichte am Vorabend 
 der Konfirmation in der Wehrkirche Hoheneggelsen - Pastor Tim Köppen
LOCATION:Wehrkirche Hoheneggelsen\, Ostlandstraße 1\, 31185\, Hoheneggelse
 n
SUMMARY:Gottesdienst am Vorabend der Konfirmation Hoheneggelsen
END:VEVENT
END:VCALENDAR
