BEGIN:VCALENDAR
VERSION:2.0
PRODID:icalendar-ruby
CALSCALE:GREGORIAN
BEGIN:VEVENT
DTSTAMP:20260417T084138Z
UID:event-occurrence-54bd0f25-621e-4a4e-9d79-cb59264f0a23-event-5df6844d-d6
 6f-4f18-a32f-c0d0ffe85cf8@termine-e
DTSTART:20260426T180000
DTEND:20260426T183000
CLASS:PUBLIC
DESCRIPTION:Herzliche Einladung zur kommende Atempause am Abend. Sie wird v
 on Dr. Francesco Cordeddu als Lektor gestaltet und geleitet. Atempause am 
 Abend: Was ist das? Hier können Sie für ungefähr eine halbe Stunde zur 
 Ruhe kommen\, durchatmen und neue Energie für die Woche tanken. Mit diese
 r Atempause möchten wir Ihnen die Möglichkeit geben\, sich\, Ihre Spirit
 ualität und Glauben vielleicht neu zu entdecken. Neugierig geworden? Dann
  schauen Sie doch einmal vorbei.
LOCATION:St. Andreas Kirche\, Duvendahl 2\, 21435\, Stelle
SUMMARY:Atempause am Abend
END:VEVENT
END:VCALENDAR
