BEGIN:VCALENDAR
VERSION:2.0
PRODID:icalendar-ruby
CALSCALE:GREGORIAN
BEGIN:VEVENT
DTSTAMP:20260224T180220Z
UID:event-occurrence-8ae666fe-1929-4022-984f-80821eca9ca3-event-5cd042df-4a
 61-4c8b-9475-c2de0fa439c9@termine-e
DTSTART:20260426T093000
DTEND:20260426T000000
CLASS:PUBLIC
DESCRIPTION:Wittmusfest in Marienau: Andacht vor dem Pilgergang
LOCATION:St. Marien Kapelle\, Kapellenweg\, 31863\, Marienau
SUMMARY:Jubilate
END:VEVENT
END:VCALENDAR
