BEGIN:VCALENDAR
VERSION:2.0
PRODID:icalendar-ruby
CALSCALE:GREGORIAN
BEGIN:VEVENT
DTSTAMP:20260304T082725Z
UID:event-occurrence-65248be9-b719-4867-a27d-b46af71d4ac7-event-5958980d-3d
 39-437b-9bde-76b99db675b5@termine-e
DTSTART:20260424T180000
DTEND:20260424T184500
CLASS:PUBLIC
DESCRIPTION:Pastorin Maike Selmayr
LOCATION:Martinskirche Ritzebüttel\, Vorwerk 3\, 27472\, Cuxhaven
SUMMARY:Friedensgebet in der Martinskirche
END:VEVENT
END:VCALENDAR
