BEGIN:VCALENDAR
VERSION:2.0
PRODID:icalendar-ruby
CALSCALE:GREGORIAN
BEGIN:VEVENT
DTSTAMP:20260212T102428Z
UID:event-occurrence-c11ee0ec-87ab-43dd-93b6-878bbad92402-event-5613e709-73
 f7-4f14-bacd-333838f2819d@termine-e
DTSTART:20260424T190000
DTEND:20260424T000000
CLASS:PUBLIC
DESCRIPTION:Pastor Lars Quittkat
LOCATION:St. Sigismund Kirche\, Kirchweg 27\, 27299\, Langwedel
SUMMARY:Tauf- und Abendmahlsgottesdienst vor der Konfirmation
END:VEVENT
END:VCALENDAR
