BEGIN:VCALENDAR
VERSION:2.0
PRODID:icalendar-ruby
CALSCALE:GREGORIAN
BEGIN:VEVENT
DTSTAMP:20260423T110715Z
UID:event-occurrence-e4aae93d-b54b-48f3-8f7f-8739d92d139b-event-541467ce-2e
 60-4e4a-a8b1-a661d93b28db@termine-e
DTSTART:20260425T160000
DTEND:20260425T220000
CLASS:PUBLIC
DESCRIPTION:Am Samstag\, den 25. April 2026\, öffnet die Erlöserkirche in
  Linden-Süd von 16:00 bis 22:00 Uhr ihre Türen für die Veranstaltung 
 „Das gute Leben“.Ein Kleiderflohmarkt lädt zum Stöbern ein\, dazu gi
 bt es Live-Musik von RIMINI EXPRESS\, ISO 1000 und Nina Freckles. Ergänzt
  wird das Programm durch Snacks und Getränke sowie viel Raum für Begegnu
 ngen.
LOCATION:Erlöserkirche (Gospelkirche) Hannover-Linden\, An der Erlöserkir
 che 2\, 30449\, Hannover
SUMMARY:Musik\, Flohmarkt und Drinks: „Das gute Leben“ in der Erlöserk
 irche
END:VEVENT
END:VCALENDAR
