BEGIN:VCALENDAR
VERSION:2.0
PRODID:icalendar-ruby
CALSCALE:GREGORIAN
BEGIN:VEVENT
DTSTAMP:20260223T134641Z
UID:event-occurrence-03d6ba69-0746-41be-baaf-be9a80c74b1c-event-53c3606a-ff
 73-4487-9db3-47b55ed19eab@termine-e
DTSTART:20260419T100000
DTEND:20260419T000000
CLASS:PUBLIC
LOCATION:St. Bartholomäus\, Hauptstraße 8\, 29643\, Neuenkirchen
SUMMARY:Gottesdienst\, P.i.R. Berndt
END:VEVENT
END:VCALENDAR
