BEGIN:VCALENDAR
VERSION:2.0
PRODID:icalendar-ruby
CALSCALE:GREGORIAN
BEGIN:VEVENT
DTSTAMP:20251121T153348Z
UID:event-occurrence-9bca5405-c13f-44a5-8096-0c5f735d6e63-event-4ca95dc1-08
 7d-4e53-a826-a29c363c742b@termine-e
DTSTART:20260507T120000
DTEND:20260507T000000
CLASS:PUBLIC
DESCRIPTION:Zusammen mit dem Verein „füreinander e.V.“ läuft nun scho
 n seit einiger Zeit das Angebot\, miteinander beim „Offenen Mittagstisch
 “ eine gemeinsame Mahlzeit zu genießen.Jeden 1. und 3. Donnerstag im Mo
 nat öffnen wir um 12.00 Uhr bei uns in St. Martin das Gemeindehaus für e
 ine warme Mahlzeit. Es kommen Menschen zusammen\, die sich sonst vielleich
 t nicht begegnen. Genau das ist auch die Idee. Da die Teilnahme ausdrückl
 ich kostenlos ist\, können alle dabei sein!Bei unserem „Süppchen in Eh
 ren“ treffe...
LOCATION:Gemeindesaal St. Martin\, Kirchhofstraße 8\, 49565\, Bramsche
SUMMARY:Offener Mittagstisch
END:VEVENT
END:VCALENDAR
