BEGIN:VCALENDAR
VERSION:2.0
PRODID:icalendar-ruby
CALSCALE:GREGORIAN
BEGIN:VEVENT
DTSTAMP:20260227T174711Z
UID:event-occurrence-8c07c94e-c384-4522-9c73-bddaf9cff18e-event-459c72c1-89
 e3-493b-b457-34ca5367a62c@termine-e
DTSTART:20260426T103000
DTEND:20260426T000000
CLASS:PUBLIC
DESCRIPTION:Gottesdienst in Martin Luther\, Lektor Thorenz \, Kirchenkaffee
LOCATION:Martin Luther Giften\, Wilhelmstr.\, 31157\, Sarstedt Ortsteil Gif
 ten
SUMMARY:Gottesdienst in Martin Luther\, Lektor Thorenz\, Kirchenkaffee
END:VEVENT
END:VCALENDAR
