BEGIN:VCALENDAR
VERSION:2.0
PRODID:icalendar-ruby
CALSCALE:GREGORIAN
BEGIN:VEVENT
DTSTAMP:20260211T131253Z
UID:event-occurrence-5391535c-6964-40a7-bc09-9b705bf801cb-event-29908abc-ba
 59-4bd8-ae30-4f1ba19ce9e9@termine-e
DTSTART:20260419T100000
DTEND:20260419T000000
CLASS:PUBLIC
DESCRIPTION:Gottesdienst zur Konfirmation in der Martin-Luther-Kirche Söhl
 de - Pastor Robert Brühl
LOCATION:Martin-Luther-Kirche Söhlde\, Martin-Luther-Str. 1\, 31185\, Söh
 lde
SUMMARY:Konfirmation Söhlde
END:VEVENT
END:VCALENDAR
