BEGIN:VCALENDAR
VERSION:2.0
PRODID:icalendar-ruby
CALSCALE:GREGORIAN
BEGIN:VEVENT
DTSTAMP:20260127T093819Z
UID:event-occurrence-60d379c4-6406-4164-9ce1-c8ce84ebfda4-event-1d75ebe3-2c
 e0-4af3-9ac7-5fd798fcaa3b@termine-e
DTSTART:20260426T100000
DTEND:20260426T000000
CLASS:PUBLIC
LOCATION:St. Antoniuskirche Fintel\, Rotenburger Str.11\, 27389\, Fintel
SUMMARY:Partnerschafts-Gottesdienst\, Pastorin Stecher (Predigt)\, Pastorin
  Mühlbacher
END:VEVENT
END:VCALENDAR
