BEGIN:VCALENDAR
VERSION:2.0
PRODID:icalendar-ruby
CALSCALE:GREGORIAN
BEGIN:VEVENT
DTSTAMP:20260225T070252Z
UID:event-occurrence-050242eb-06c9-4faa-934b-127afd1ff5df-event-1d4e6844-d2
 28-44ac-a8db-ec4fc397e95a@termine-e
DTSTART:20260301T100000
DTEND:20260301T113000
CLASS:PUBLIC
LOCATION:Thomaskirche Hohenbostel\, An der Kirche 3\, 30890\, Hohenbostel
SUMMARY:Gottesdienst
END:VEVENT
BEGIN:VEVENT
DTSTAMP:20260225T070252Z
UID:event-occurrence-e86ca86a-a45f-4bca-aefa-62c4c31ff411-event-1d4e6844-d2
 28-44ac-a8db-ec4fc397e95a@termine-e
DTSTART:20260315T100000
DTEND:20260315T113000
CLASS:PUBLIC
LOCATION:Thomaskirche Hohenbostel\, An der Kirche 3\, 30890\, Hohenbostel
SUMMARY:Gottesdienst
END:VEVENT
BEGIN:VEVENT
DTSTAMP:20260225T070252Z
UID:event-occurrence-3c8b5341-b6c1-4715-9f76-2e3fb4184b37-event-1d4e6844-d2
 28-44ac-a8db-ec4fc397e95a@termine-e
DTSTART:20260329T100000
DTEND:20260329T113000
CLASS:PUBLIC
LOCATION:Thomaskirche Hohenbostel\, An der Kirche 3\, 30890\, Hohenbostel
SUMMARY:Gottesdienst
END:VEVENT
BEGIN:VEVENT
DTSTAMP:20260225T070252Z
UID:event-occurrence-1b40fc81-989e-4297-be05-cee2cfba6ff5-event-1d4e6844-d2
 28-44ac-a8db-ec4fc397e95a@termine-e
DTSTART:20260412T100000
DTEND:20260412T113000
CLASS:PUBLIC
LOCATION:Thomaskirche Hohenbostel\, An der Kirche 3\, 30890\, Hohenbostel
SUMMARY:Gottesdienst
END:VEVENT
BEGIN:VEVENT
DTSTAMP:20260225T070252Z
UID:event-occurrence-89fefb31-d794-4552-b93f-340adae8b33d-event-1d4e6844-d2
 28-44ac-a8db-ec4fc397e95a@termine-e
DTSTART:20260426T100000
DTEND:20260426T113000
CLASS:PUBLIC
LOCATION:Thomaskirche Hohenbostel\, An der Kirche 3\, 30890\, Hohenbostel
SUMMARY:Gottesdienst
END:VEVENT
BEGIN:VEVENT
DTSTAMP:20260225T070252Z
UID:event-occurrence-563efce0-2d33-40a9-bc6c-d2f473347699-event-1d4e6844-d2
 28-44ac-a8db-ec4fc397e95a@termine-e
DTSTART:20260510T100000
DTEND:20260510T113000
CLASS:PUBLIC
LOCATION:Thomaskirche Hohenbostel\, An der Kirche 3\, 30890\, Hohenbostel
SUMMARY:Gottesdienst
END:VEVENT
BEGIN:VEVENT
DTSTAMP:20260225T070252Z
UID:event-occurrence-df030455-9bff-4f7d-96ad-a9b361cca76c-event-1d4e6844-d2
 28-44ac-a8db-ec4fc397e95a@termine-e
DTSTART:20260524T100000
DTEND:20260524T113000
CLASS:PUBLIC
LOCATION:Thomaskirche Hohenbostel\, An der Kirche 3\, 30890\, Hohenbostel
SUMMARY:Gottesdienst
END:VEVENT
BEGIN:VEVENT
DTSTAMP:20260225T070252Z
UID:event-occurrence-36ed0b96-14f0-45a7-a393-a6a8bca358eb-event-1d4e6844-d2
 28-44ac-a8db-ec4fc397e95a@termine-e
DTSTART:20260607T100000
DTEND:20260607T113000
CLASS:PUBLIC
LOCATION:Thomaskirche Hohenbostel\, An der Kirche 3\, 30890\, Hohenbostel
SUMMARY:Gottesdienst
END:VEVENT
BEGIN:VEVENT
DTSTAMP:20260225T070252Z
UID:event-occurrence-50ae3aff-069b-49bf-af2d-d944e7673432-event-1d4e6844-d2
 28-44ac-a8db-ec4fc397e95a@termine-e
DTSTART:20260621T100000
DTEND:20260621T113000
CLASS:PUBLIC
LOCATION:Thomaskirche Hohenbostel\, An der Kirche 3\, 30890\, Hohenbostel
SUMMARY:Gottesdienst
END:VEVENT
BEGIN:VEVENT
DTSTAMP:20260225T070252Z
UID:event-occurrence-6f7285f9-6d50-413b-b21f-b37057aeb179-event-1d4e6844-d2
 28-44ac-a8db-ec4fc397e95a@termine-e
DTSTART:20260705T100000
DTEND:20260705T113000
CLASS:PUBLIC
LOCATION:Thomaskirche Hohenbostel\, An der Kirche 3\, 30890\, Hohenbostel
SUMMARY:Gottesdienst
END:VEVENT
BEGIN:VEVENT
DTSTAMP:20260225T070252Z
UID:event-occurrence-fc45761f-5dfb-4a99-a408-428f6a16f614-event-1d4e6844-d2
 28-44ac-a8db-ec4fc397e95a@termine-e
DTSTART:20260719T100000
DTEND:20260719T113000
CLASS:PUBLIC
LOCATION:Thomaskirche Hohenbostel\, An der Kirche 3\, 30890\, Hohenbostel
SUMMARY:Gottesdienst
END:VEVENT
BEGIN:VEVENT
DTSTAMP:20260225T070252Z
UID:event-occurrence-a68983cd-cfae-4b8c-988f-54709100e506-event-1d4e6844-d2
 28-44ac-a8db-ec4fc397e95a@termine-e
DTSTART:20260802T100000
DTEND:20260802T113000
CLASS:PUBLIC
LOCATION:Thomaskirche Hohenbostel\, An der Kirche 3\, 30890\, Hohenbostel
SUMMARY:Gottesdienst
END:VEVENT
BEGIN:VEVENT
DTSTAMP:20260225T070252Z
UID:event-occurrence-4d27f271-7174-454a-bab4-d18c34274b9d-event-1d4e6844-d2
 28-44ac-a8db-ec4fc397e95a@termine-e
DTSTART:20260816T100000
DTEND:20260816T113000
CLASS:PUBLIC
LOCATION:Thomaskirche Hohenbostel\, An der Kirche 3\, 30890\, Hohenbostel
SUMMARY:Gottesdienst
END:VEVENT
BEGIN:VEVENT
DTSTAMP:20260225T070252Z
UID:event-occurrence-19414238-c643-4dfc-9126-fdc6e440aec7-event-1d4e6844-d2
 28-44ac-a8db-ec4fc397e95a@termine-e
DTSTART:20260830T100000
DTEND:20260830T113000
CLASS:PUBLIC
LOCATION:Thomaskirche Hohenbostel\, An der Kirche 3\, 30890\, Hohenbostel
SUMMARY:Gottesdienst
END:VEVENT
BEGIN:VEVENT
DTSTAMP:20260225T070252Z
UID:event-occurrence-1a3e50de-3713-4837-b0a9-b4d60ee1eae2-event-1d4e6844-d2
 28-44ac-a8db-ec4fc397e95a@termine-e
DTSTART:20260913T100000
DTEND:20260913T113000
CLASS:PUBLIC
LOCATION:Thomaskirche Hohenbostel\, An der Kirche 3\, 30890\, Hohenbostel
SUMMARY:Gottesdienst
END:VEVENT
BEGIN:VEVENT
DTSTAMP:20260225T070252Z
UID:event-occurrence-c256f918-9342-4eca-8089-3a348eabbb9c-event-1d4e6844-d2
 28-44ac-a8db-ec4fc397e95a@termine-e
DTSTART:20260927T100000
DTEND:20260927T113000
CLASS:PUBLIC
LOCATION:Thomaskirche Hohenbostel\, An der Kirche 3\, 30890\, Hohenbostel
SUMMARY:Gottesdienst
END:VEVENT
BEGIN:VEVENT
DTSTAMP:20260225T070252Z
UID:event-occurrence-9cd02f75-03d7-4d52-9c3d-7385ccdb816e-event-1d4e6844-d2
 28-44ac-a8db-ec4fc397e95a@termine-e
DTSTART:20261011T100000
DTEND:20261011T113000
CLASS:PUBLIC
LOCATION:Thomaskirche Hohenbostel\, An der Kirche 3\, 30890\, Hohenbostel
SUMMARY:Gottesdienst
END:VEVENT
BEGIN:VEVENT
DTSTAMP:20260225T070252Z
UID:event-occurrence-d8d579b3-5de3-4b56-bf54-d92e56e46ff2-event-1d4e6844-d2
 28-44ac-a8db-ec4fc397e95a@termine-e
DTSTART:20261025T100000
DTEND:20261025T113000
CLASS:PUBLIC
LOCATION:Thomaskirche Hohenbostel\, An der Kirche 3\, 30890\, Hohenbostel
SUMMARY:Gottesdienst
END:VEVENT
BEGIN:VEVENT
DTSTAMP:20260225T070252Z
UID:event-occurrence-4d449b72-ea3e-4a85-8f0a-f25672df42fd-event-1d4e6844-d2
 28-44ac-a8db-ec4fc397e95a@termine-e
DTSTART:20261108T100000
DTEND:20261108T113000
CLASS:PUBLIC
LOCATION:Thomaskirche Hohenbostel\, An der Kirche 3\, 30890\, Hohenbostel
SUMMARY:Gottesdienst
END:VEVENT
BEGIN:VEVENT
DTSTAMP:20260225T070252Z
UID:event-occurrence-e4895501-bc7a-48eb-83c3-4434d529edf0-event-1d4e6844-d2
 28-44ac-a8db-ec4fc397e95a@termine-e
DTSTART:20261122T100000
DTEND:20261122T113000
CLASS:PUBLIC
LOCATION:Thomaskirche Hohenbostel\, An der Kirche 3\, 30890\, Hohenbostel
SUMMARY:Gottesdienst
END:VEVENT
BEGIN:VEVENT
DTSTAMP:20260225T070252Z
UID:event-occurrence-32fc1ca6-cc4f-44b9-8190-7679232bf9a8-event-1d4e6844-d2
 28-44ac-a8db-ec4fc397e95a@termine-e
DTSTART:20261206T100000
DTEND:20261206T113000
CLASS:PUBLIC
LOCATION:Thomaskirche Hohenbostel\, An der Kirche 3\, 30890\, Hohenbostel
SUMMARY:Gottesdienst
END:VEVENT
BEGIN:VEVENT
DTSTAMP:20260225T070252Z
UID:event-occurrence-fd869f79-3c0e-4af2-8753-c1ce4b8a8f84-event-1d4e6844-d2
 28-44ac-a8db-ec4fc397e95a@termine-e
DTSTART:20261220T100000
DTEND:20261220T113000
CLASS:PUBLIC
LOCATION:Thomaskirche Hohenbostel\, An der Kirche 3\, 30890\, Hohenbostel
SUMMARY:Gottesdienst
END:VEVENT
BEGIN:VEVENT
DTSTAMP:20260225T070252Z
UID:event-occurrence-a3a1722e-1029-4bac-982c-68e383b4072f-event-1d4e6844-d2
 28-44ac-a8db-ec4fc397e95a@termine-e
DTSTART:20270103T100000
DTEND:20270103T113000
CLASS:PUBLIC
LOCATION:Thomaskirche Hohenbostel\, An der Kirche 3\, 30890\, Hohenbostel
SUMMARY:Gottesdienst
END:VEVENT
BEGIN:VEVENT
DTSTAMP:20260225T070252Z
UID:event-occurrence-973fbf5f-0895-4be1-ae76-77aad98283b2-event-1d4e6844-d2
 28-44ac-a8db-ec4fc397e95a@termine-e
DTSTART:20270117T100000
DTEND:20270117T113000
CLASS:PUBLIC
LOCATION:Thomaskirche Hohenbostel\, An der Kirche 3\, 30890\, Hohenbostel
SUMMARY:Gottesdienst
END:VEVENT
BEGIN:VEVENT
DTSTAMP:20260225T070252Z
UID:event-occurrence-48516607-03ac-4c5d-a87c-8a89a1e53086-event-1d4e6844-d2
 28-44ac-a8db-ec4fc397e95a@termine-e
DTSTART:20270131T100000
DTEND:20270131T113000
CLASS:PUBLIC
LOCATION:Thomaskirche Hohenbostel\, An der Kirche 3\, 30890\, Hohenbostel
SUMMARY:Gottesdienst
END:VEVENT
BEGIN:VEVENT
DTSTAMP:20260225T070252Z
UID:event-occurrence-544c694d-554c-410e-82b0-878ad18691b1-event-1d4e6844-d2
 28-44ac-a8db-ec4fc397e95a@termine-e
DTSTART:20270214T100000
DTEND:20270214T113000
CLASS:PUBLIC
LOCATION:Thomaskirche Hohenbostel\, An der Kirche 3\, 30890\, Hohenbostel
SUMMARY:Gottesdienst
END:VEVENT
BEGIN:VEVENT
DTSTAMP:20260225T070252Z
UID:event-occurrence-d4426a81-3ab0-4141-9c22-61aeb8e5f57a-event-1d4e6844-d2
 28-44ac-a8db-ec4fc397e95a@termine-e
DTSTART:20270228T100000
DTEND:20270228T113000
CLASS:PUBLIC
LOCATION:Thomaskirche Hohenbostel\, An der Kirche 3\, 30890\, Hohenbostel
SUMMARY:Gottesdienst
END:VEVENT
BEGIN:VEVENT
DTSTAMP:20260225T070252Z
UID:event-occurrence-6c0e6e09-59ac-4e7b-8b3b-11b076c5e8e4-event-1d4e6844-d2
 28-44ac-a8db-ec4fc397e95a@termine-e
DTSTART:20270314T100000
DTEND:20270314T113000
CLASS:PUBLIC
LOCATION:Thomaskirche Hohenbostel\, An der Kirche 3\, 30890\, Hohenbostel
SUMMARY:Gottesdienst
END:VEVENT
BEGIN:VEVENT
DTSTAMP:20260225T070252Z
UID:event-occurrence-992cfe9c-0169-44eb-8d60-4198f7437ac5-event-1d4e6844-d2
 28-44ac-a8db-ec4fc397e95a@termine-e
DTSTART:20270328T100000
DTEND:20270328T113000
CLASS:PUBLIC
LOCATION:Thomaskirche Hohenbostel\, An der Kirche 3\, 30890\, Hohenbostel
SUMMARY:Gottesdienst
END:VEVENT
BEGIN:VEVENT
DTSTAMP:20260225T070252Z
UID:event-occurrence-e5c59faf-d148-4d02-9cf2-b137944590f7-event-1d4e6844-d2
 28-44ac-a8db-ec4fc397e95a@termine-e
DTSTART:20270411T100000
DTEND:20270411T113000
CLASS:PUBLIC
LOCATION:Thomaskirche Hohenbostel\, An der Kirche 3\, 30890\, Hohenbostel
SUMMARY:Gottesdienst
END:VEVENT
END:VCALENDAR
