BEGIN:VCALENDAR
VERSION:2.0
PRODID:icalendar-ruby
CALSCALE:GREGORIAN
BEGIN:VEVENT
DTSTAMP:20260224T180220Z
UID:event-occurrence-9e510cd9-121b-439d-9fe9-52d8e1f94f1f-event-047c2764-87
 71-438d-aa4d-191e76603b27@termine-e
DTSTART:20260424T160000
DTEND:20260424T000000
CLASS:PUBLIC
DESCRIPTION:Gottesdienst in Coppenbrügge zur Verabschiedung von Andrea Sch
 reiber als Leiterin der Kita Schloßstraße
LOCATION:St. Nicolai Kirche\, Niederstr. 11\, 31863\, Coppenbrügge
SUMMARY:Freitag
END:VEVENT
END:VCALENDAR
