BEGIN:VCALENDAR
VERSION:2.0
PRODID:icalendar-ruby
CALSCALE:GREGORIAN
BEGIN:VEVENT
DTSTAMP:20260309T092828Z
UID:event-occurrence-4bdc822e-f063-4404-89bb-9d6e7384d817-event-dfb6ed42-8d
 8b-457d-b910-f43f8ac02c45@termine-e
DTSTART:20260406T113000
DTEND:20260406T000000
CLASS:PUBLIC
LOCATION:St. Ansgari Kirche Hage\, 26524\, Hage
SUMMARY:Familien-Gottesdienst mit Abschluss der KibiWo und Taufen mit Pn. L
 ammers
END:VEVENT
END:VCALENDAR
