BEGIN:VCALENDAR
VERSION:2.0
PRODID:icalendar-ruby
CALSCALE:GREGORIAN
BEGIN:VEVENT
DTSTAMP:20260420T104539Z
UID:event-occurrence-3aec6796-ccfd-4538-a25b-ced38ec1b9fc-event-df2f3703-c6
 f7-45d2-9c9e-751ff92c9482@termine-e
DTSTART:20260503T100000
DTEND:20260503T000000
CLASS:PUBLIC
LOCATION:St. Katharinen\, An der Katharinenkirche 8\, 49074\, Osnabrück
SUMMARY:Hauptgottesdienst zum Sonntag Kantate\, Pastorin Dr. Laura Schimmep
 lpfennig
END:VEVENT
END:VCALENDAR
