BEGIN:VCALENDAR
VERSION:2.0
PRODID:icalendar-ruby
CALSCALE:GREGORIAN
BEGIN:VEVENT
DTSTAMP:20260314T143914Z
UID:event-occurrence-a1d99355-aba0-4a61-85ed-d8b768688eed-event-df1eb29e-4d
 2d-46a6-bba3-22239bd94c13@termine-e
DTSTART:20270209T170000
DTEND:20270209T190000
CLASS:PUBLIC
DESCRIPTION:In dieser Einheit beschäftigen sich die Konfis mit der Passion
 szeit und dem Osterfest. Gemeinsam schauen wir auf die letzten Tage im Leb
 en Jesu\, sein Leiden und seinen Tod am Kreuz. Gleichzeitig geht es um die
  Bedeutung von Ostern und die Hoffnung der Auferstehung\, die im christlic
 hen Glauben eine zentrale Rolle spielt.
LOCATION:Gemeindehaus der ev.-luth. Kirche St. Marien\, Kirchstraße 4\, 29
 339\, Wathlingen
SUMMARY:KU16: Passion + Ostern
END:VEVENT
END:VCALENDAR
