BEGIN:VCALENDAR
VERSION:2.0
PRODID:icalendar-ruby
CALSCALE:GREGORIAN
BEGIN:VEVENT
DTSTAMP:20260409T142341Z
UID:event-occurrence-135e87f6-1364-4c57-ba3a-0ab67788c3dd-event-df068d88-50
 d5-4c51-a5ec-33b9da8dea4d@termine-e
DTSTART:20260509T100000
DTEND:20260509T000000
CLASS:PUBLIC
LOCATION:
SUMMARY:Kinderkirche in Rethem
END:VEVENT
END:VCALENDAR
