BEGIN:VCALENDAR
VERSION:2.0
PRODID:icalendar-ruby
CALSCALE:GREGORIAN
BEGIN:VEVENT
DTSTAMP:20260327T114006Z
UID:event-occurrence-fa544c52-eb48-4f2e-accb-448f70791f64-event-de78687c-b4
 58-4760-a3c4-a87b3d20b052@termine-e
DTSTART:20260513T130000
DTEND:20260513T000000
CLASS:PUBLIC
DESCRIPTION:30 Minuten Gebet\, geistlicher Impuls &amp\; OrgelmusikStadtsup
 erintendent Rainer Müller-Brandes | Matthias Flierl\, Orgel
LOCATION:Marktkirche Hannover\, Hanns-Lilje-Platz 2\, 30159\, Hannover
SUMMARY:Ökumenisches Mittagsgebet
END:VEVENT
END:VCALENDAR
