BEGIN:VCALENDAR
VERSION:2.0
PRODID:icalendar-ruby
CALSCALE:GREGORIAN
BEGIN:VEVENT
DTSTAMP:20260326T130755Z
UID:event-occurrence-54ff7ab0-74b2-4618-a767-7f5b44b905af-event-de5eb542-9f
 fb-415e-ad2a-364ca98c3642@termine-e
DTSTART:20270217T100000
DTEND:20270218T160000
CLASS:PUBLIC
DESCRIPTION:Mit der Generation der Babyboomer nimmt die Zahl derer\,die in 
 den nächsten Jahren in den Ruhestand gehen\,weiter zu. Viele stehen vor d
 er Aufgabe\, diesen Übergangzu gestalten und Pläne für die erwerbsarbei
 tsfreieLebensphase zu entwickeln. Was bedeutet das für daskirchliche Hand
 eln? Wie entsteht Kontakt zu Menschenim dritten Lebensalter? Welche Räume
  können wir öffnen?Welche Rahmenbedingungen sind nötig? WelcheAnsätze 
 haben sich in der Praxis bewährt? Ziel des Modulsist es\, die Gestaltungs
 mögli...
LOCATION:St. Ansgar-Haus\, Hamburg
SUMMARY:älterwerden.endlich.leben Modul 3_Der Übergang in die nachberufli
 che Lebensphase und das dritte Lebensalter
END:VEVENT
END:VCALENDAR
