BEGIN:VCALENDAR
VERSION:2.0
PRODID:icalendar-ruby
CALSCALE:GREGORIAN
BEGIN:VEVENT
DTSTAMP:20260314T130856Z
UID:event-occurrence-794155cf-5186-44c8-a950-9a80055705fc-event-dde6a75e-61
 50-411c-a9ae-6c5253950923@termine-e
DTSTART:20260521T193000
DTEND:20260521T000000
CLASS:PUBLIC
LOCATION:Lukaskirche\, Schlesierstr. 5\, 31139\, Hildesheim
SUMMARY:Bastelgruppe
END:VEVENT
END:VCALENDAR
