BEGIN:VCALENDAR
VERSION:2.0
PRODID:icalendar-ruby
CALSCALE:GREGORIAN
BEGIN:VEVENT
DTSTAMP:20260424T070110Z
UID:event-occurrence-24432f03-4ff1-4373-a9af-b41028714c76-event-ddd362b6-55
 a9-4c52-882a-4f6b9d9f756d@termine-e
DTSTART:20260502T180000
DTEND:20260502T000000
CLASS:PUBLIC
DESCRIPTION:Mit Combo
LOCATION:Kirche St. Nicolai Altenbruch\, Bei den Türmen\, 27478\, Cuxhaven
 -Altenbruch
SUMMARY:Abendmahlsgottesdienst
END:VEVENT
END:VCALENDAR
