BEGIN:VCALENDAR
VERSION:2.0
PRODID:icalendar-ruby
CALSCALE:GREGORIAN
BEGIN:VEVENT
DTSTAMP:20260424T133039Z
UID:event-occurrence-ee4af58b-d978-4937-9293-0ffe3a3d1e67-event-dcbfd5bf-43
 90-4368-abcc-62a22786ea19@termine-e
DTSTART:20260509T160000
DTEND:20260509T000000
CLASS:PUBLIC
DESCRIPTION:mit Pastorin Simone Schad-Smith
LOCATION:Klosterkirche Loccum\, Kloster 9\, 31547\, Rehburg-Loccum
SUMMARY:Abendmahlsgottesdienst zur Konfirmation
END:VEVENT
END:VCALENDAR
