BEGIN:VCALENDAR
VERSION:2.0
PRODID:icalendar-ruby
CALSCALE:GREGORIAN
BEGIN:VEVENT
DTSTAMP:20260312T152800Z
UID:event-occurrence-49839c95-2eb0-460e-86b1-4d3e38eb0708-event-dc7ba9a8-78
 a4-4249-b34b-20c0dc87d272@termine-e
DTSTART:20261225T100000
DTEND:20261225T000000
CLASS:PUBLIC
LOCATION:St. Primus-Kirche\, An der Kirche\, 21698\, Bargstedt
SUMMARY:Gottesdienst in Bargstedt gemeinsam mit Ahlerstedt
END:VEVENT
END:VCALENDAR
