BEGIN:VCALENDAR
VERSION:2.0
PRODID:icalendar-ruby
CALSCALE:GREGORIAN
BEGIN:VEVENT
DTSTAMP:20260325T194008Z
UID:event-occurrence-362923e8-f4de-4a61-b22d-ecd02b746a0c-event-db97e757-97
 0b-40e7-b09c-03525bd3068b@termine-e
DTSTART:20260510T160000
DTEND:20260510T000000
CLASS:PUBLIC
DESCRIPTION:Um 16 Uhr gibt es in der Kapelle ein kulturelles Highlight: „
 Klangwindpoesie“ aus Neustadt kommt zu einem kleinen Literatur-Konzert 
 „Farben eines Sommers“. Der Eintritt ist frei!
LOCATION:Friedhofskapelle Horst\, Am Kahlen Berg 10\, 30826\, Garbsen / Hor
 st
SUMMARY:Literatur-Konzert „Farben eines Sommers“ mit Klangwindpoesie
END:VEVENT
END:VCALENDAR
